BEGIN:VCALENDAR
CALSCALE:GREGORIAN
X-WR-TIMEZONE;VALUE=TEXT:GMT
PRODID:PEAK Corporation - piCal -
X-WR-CALNAME;VALUE=TEXT:夜間）　民謡クラブ
VERSION:2.0
METHOD:PUBLISH
BEGIN:VTIMEZONE
TZID:Etc/GMT-9
BEGIN:STANDARD
DTSTART:19390101T000000
TZOFFSETFROM:+0900
TZOFFSETTO:+0900
TZNAME:Etc/GMT-9
END:STANDARD
END:VTIMEZONE
BEGIN:VEVENT
DTSTART;TZID=Etc/GMT-9:20110517T193000
DTEND;TZID=Etc/GMT-9:20110517T213000
LOCATION:集会室1
TRANSP:OPAQUE
SEQUENCE:1
UID:pical060-120890d32daee725f3954b89e1f8da50
DTSTAMP:20110416T113657Z
CATEGORIES:
DESCRIPTION:
SUMMARY:夜間）　民謡クラブ
RRULE:FREQ=MONTHLY;INTERVAL=1;BYDAY=3TU;COUNT=0;WKST=SU
PRIORITY:0
CLASS:PUBLIC
END:VEVENT
END:VCALENDAR
