BEGIN:VCALENDAR
CALSCALE:GREGORIAN
X-WR-TIMEZONE;VALUE=TEXT:GMT
PRODID:PEAK Corporation - piCal -
X-WR-CALNAME;VALUE=TEXT:第六回情報部会
VERSION:2.0
METHOD:PUBLISH
BEGIN:VTIMEZONE
TZID:GMT
BEGIN:STANDARD
DTSTART:19390101T000000
TZOFFSETFROM:+0000
TZOFFSETTO:+0000
TZNAME:GMT
END:STANDARD
END:VTIMEZONE
BEGIN:VEVENT
DTSTART:20050727T103000Z
DTEND:20050727T120000Z
LOCATION:洞戸ネットサロン
TRANSP:OPAQUE
SEQUENCE:1
UID:pical060-2c08722e67a12afcbd34675f96930bec
DTSTAMP:20050725T130200Z
CATEGORIES:
DESCRIPTION:サイト操作と使い勝手の検証
SUMMARY:第六回情報部会
PRIORITY:0
CLASS:PUBLIC
END:VEVENT
END:VCALENDAR
