BEGIN:VCALENDAR
CALSCALE:GREGORIAN
X-WR-TIMEZONE;VALUE=TEXT:GMT
PRODID:PEAK Corporation - piCal -
X-WR-CALNAME;VALUE=TEXT:第七回情報部会
VERSION:2.0
METHOD:PUBLISH
BEGIN:VTIMEZONE
TZID:GMT
BEGIN:STANDARD
DTSTART:19390101T000000
TZOFFSETFROM:+0000
TZOFFSETTO:+0000
TZNAME:GMT
END:STANDARD
END:VTIMEZONE
BEGIN:VEVENT
DTSTART:20050803T103000Z
DTEND:20050803T120000Z
LOCATION:洞戸ネットサロン
TRANSP:OPAQUE
SEQUENCE:0
UID:pical060-8a4b139719a536376aa49336808d6aae
DTSTAMP:20050801T221937Z
CATEGORIES:
DESCRIPTION:システムは、ほぼ固まったので、コンテンツの作成作業に入ります。\nコンテンツを入力しながら操作を覚えていただければ幸いです。\n尚、今回はシルバーの皆さんもサロンで会合を持たれますので、部会は後ろの方で行ないましょう。。
SUMMARY:第七回情報部会
PRIORITY:0
CLASS:PUBLIC
END:VEVENT
END:VCALENDAR
