BEGIN:VCALENDAR
CALSCALE:GREGORIAN
X-WR-TIMEZONE;VALUE=TEXT:GMT
PRODID:PEAK Corporation - piCal -
X-WR-CALNAME;VALUE=TEXT:第八回情報部会
VERSION:2.0
METHOD:PUBLISH
BEGIN:VTIMEZONE
TZID:GMT
BEGIN:STANDARD
DTSTART:19390101T000000
TZOFFSETFROM:+0000
TZOFFSETTO:+0000
TZNAME:GMT
END:STANDARD
END:VTIMEZONE
BEGIN:VEVENT
DTSTART:20050810T103000Z
DTEND:20050810T120000Z
LOCATION:ネット
TRANSP:OPAQUE
SEQUENCE:0
UID:pical060-87c95eb20a37119e6466d42c178b3778
DTSTAMP:20050809T071515Z
CATEGORIES:
DESCRIPTION:いよいよ大詰めです。\n必要コンテンツの考察と検証を行います。
SUMMARY:第八回情報部会
PRIORITY:0
CLASS:PUBLIC
END:VEVENT
END:VCALENDAR
