BEGIN:VCALENDAR
CALSCALE:GREGORIAN
X-WR-TIMEZONE;VALUE=TEXT:GMT
PRODID:PEAK Corporation - piCal -
X-WR-CALNAME;VALUE=TEXT:情報部会
VERSION:2.0
METHOD:PUBLISH
BEGIN:VTIMEZONE
TZID:GMT
BEGIN:STANDARD
DTSTART:19390101T000000
TZOFFSETFROM:+0000
TZOFFSETTO:+0000
TZNAME:GMT
END:STANDARD
END:VTIMEZONE
BEGIN:VEVENT
DTSTART:20050908T103000Z
DTEND:20050908T120000Z
LOCATION:洞戸ネットサロン
TRANSP:OPAQUE
SEQUENCE:0
UID:pical060-bc542825861a9aa9447ab31463242306
DTSTAMP:20050907T042733Z
CATEGORIES:
DESCRIPTION:公開直前チェック　と　最終書き込み
SUMMARY:情報部会
PRIORITY:0
CLASS:PUBLIC
END:VEVENT
END:VCALENDAR
