BEGIN:VCALENDAR
CALSCALE:GREGORIAN
X-WR-TIMEZONE;VALUE=TEXT:GMT
PRODID:PEAK Corporation - piCal -
X-WR-CALNAME;VALUE=TEXT:情報部会
VERSION:2.0
METHOD:PUBLISH
BEGIN:VTIMEZONE
TZID:GMT
BEGIN:STANDARD
DTSTART:19390101T000000
TZOFFSETFROM:+0000
TZOFFSETTO:+0000
TZNAME:GMT
END:STANDARD
END:VTIMEZONE
BEGIN:VEVENT
DTSTART:20051018T103000Z
DTEND:20051018T120000Z
LOCATION:洞戸ネットサロン
TRANSP:OPAQUE
SEQUENCE:1
UID:pical060-0aee614861f3e9a1c8b3485bec9a9b86
DTSTAMP:20051005T102517Z
CATEGORIES:
DESCRIPTION:第１３回情報部会\n今後の戦略・サロンでの講習会の計画等について\n
SUMMARY:情報部会
PRIORITY:0
CLASS:PUBLIC
END:VEVENT
END:VCALENDAR
