BEGIN:VCALENDAR
CALSCALE:GREGORIAN
X-WR-TIMEZONE;VALUE=TEXT:GMT
PRODID:PEAK Corporation - piCal -
X-WR-CALNAME;VALUE=TEXT:洞戸小学校修学旅行
VERSION:2.0
METHOD:PUBLISH
BEGIN:VTIMEZONE
TZID:GMT
BEGIN:STANDARD
DTSTART:19390101T000000
TZOFFSETFROM:+0000
TZOFFSETTO:+0000
TZNAME:GMT
END:STANDARD
END:VTIMEZONE
BEGIN:VEVENT
DTSTART:20051019T213000Z
DTEND:20051021T090000Z
LOCATION:奈良・京都
TRANSP:OPAQUE
SEQUENCE:0
UID:pical060-dc6e53d4f7d8be33d60f44dcefd96c32
DTSTAMP:20051019T131553Z
CATEGORIES:
DESCRIPTION:
SUMMARY:洞戸小学校修学旅行
PRIORITY:0
CLASS:PUBLIC
END:VEVENT
END:VCALENDAR
