BEGIN:VCALENDAR
CALSCALE:GREGORIAN
X-WR-TIMEZONE;VALUE=TEXT:GMT
PRODID:PEAK Corporation - piCal -
X-WR-CALNAME;VALUE=TEXT:2006ほらどキウイマラソン
VERSION:2.0
METHOD:PUBLISH
BEGIN:VTIMEZONE
TZID:GMT
BEGIN:STANDARD
DTSTART:19390101T000000
TZOFFSETFROM:+0000
TZOFFSETTO:+0000
TZNAME:GMT
END:STANDARD
END:VTIMEZONE
BEGIN:VEVENT
DTSTART:20061125T230000Z
DTEND:20061126T030000Z
LOCATION:関市洞戸
TRANSP:OPAQUE
SEQUENCE:2
UID:pical060-476a354724706b248e1009a735be592f
DTSTAMP:20061127T012554Z
CATEGORIES:
DESCRIPTION:
SUMMARY:2006ほらどキウイマラソン
PRIORITY:0
CLASS:PUBLIC
END:VEVENT
END:VCALENDAR
