BEGIN:VCALENDAR
CALSCALE:GREGORIAN
X-WR-TIMEZONE;VALUE=TEXT:GMT
PRODID:PEAK Corporation - piCal -
X-WR-CALNAME;VALUE=TEXT:情報部会
VERSION:2.0
METHOD:PUBLISH
BEGIN:VTIMEZONE
TZID:GMT
BEGIN:STANDARD
DTSTART:19390101T000000
TZOFFSETFROM:+0000
TZOFFSETTO:+0000
TZNAME:GMT
END:STANDARD
END:VTIMEZONE
BEGIN:VEVENT
DTSTART:20061206T103000Z
DTEND:20061206T120000Z
LOCATION:
TRANSP:OPAQUE
SEQUENCE:0
UID:pical060-b895cad2b276d39b383cbe9b04dd80d0
DTSTAMP:20061205T094904Z
CATEGORIES:
DESCRIPTION:・来年の計画\n一般開放も兼ねます。\nパソコンの悩みで年を越さないようにお出かけ下さい。
SUMMARY:情報部会
PRIORITY:0
CLASS:PUBLIC
END:VEVENT
END:VCALENDAR
