BEGIN:VCALENDAR
CALSCALE:GREGORIAN
X-WR-TIMEZONE;VALUE=TEXT:GMT
PRODID:PEAK Corporation - piCal -
X-WR-CALNAME;VALUE=TEXT:情報部会
VERSION:2.0
METHOD:PUBLISH
BEGIN:VTIMEZONE
TZID:GMT
BEGIN:STANDARD
DTSTART:19390101T000000
TZOFFSETFROM:+0000
TZOFFSETTO:+0000
TZNAME:GMT
END:STANDARD
END:VTIMEZONE
BEGIN:VEVENT
DTSTART:20061213T103000Z
DTEND:20061213T120000Z
LOCATION:洞戸ネットサロン
TRANSP:OPAQUE
SEQUENCE:0
UID:pical060-77f50c061410e954f0e6f54f8f6de752
DTSTAMP:20061211T075947Z
CATEGORIES:
DESCRIPTION:新年に向けての段取り
SUMMARY:情報部会
PRIORITY:0
CLASS:PUBLIC
END:VEVENT
END:VCALENDAR
