BEGIN:VCALENDAR
CALSCALE:GREGORIAN
X-WR-TIMEZONE;VALUE=TEXT:GMT
PRODID:PEAK Corporation - piCal -
X-WR-CALNAME;VALUE=TEXT:情報部会
VERSION:2.0
METHOD:PUBLISH
BEGIN:VTIMEZONE
TZID:GMT
BEGIN:STANDARD
DTSTART:19390101T000000
TZOFFSETFROM:+0000
TZOFFSETTO:+0000
TZNAME:GMT
END:STANDARD
END:VTIMEZONE
BEGIN:VEVENT
DTSTART:20061220T103000Z
DTEND:20061220T120000Z
LOCATION:洞戸ネットサロン
TRANSP:OPAQUE
SEQUENCE:0
UID:pical060-2fdb675ffd9e1bd6437e13879bba1440
DTSTAMP:20061218T235848Z
CATEGORIES:
DESCRIPTION:本年最後の部会です。\nnonさん提供の子ども教室ほか、来年の具体的なTIMEスケジュールを組みます。\n来週２６日火曜日に御用納めの掃除を兼ねたスタッフ会で今年は閉館です。参加できる方はそちらもよろしく。
SUMMARY:情報部会
PRIORITY:0
CLASS:PUBLIC
END:VEVENT
END:VCALENDAR
