BEGIN:VCALENDAR
CALSCALE:GREGORIAN
X-WR-TIMEZONE;VALUE=TEXT:GMT
PRODID:PEAK Corporation - piCal -
X-WR-CALNAME;VALUE=TEXT:サロン会（兼開室）
VERSION:2.0
METHOD:PUBLISH
BEGIN:VTIMEZONE
TZID:GMT
BEGIN:STANDARD
DTSTART:19390101T000000
TZOFFSETFROM:+0000
TZOFFSETTO:+0000
TZNAME:GMT
END:STANDARD
END:VTIMEZONE
BEGIN:VEVENT
DTSTART:20070110T103000Z
DTEND:20070110T120000Z
LOCATION:洞戸ネットサロン
TRANSP:OPAQUE
SEQUENCE:0
UID:pical060-c4b641bbee67d896334f256430883e61
DTSTAMP:20070110T052129Z
CATEGORIES:
DESCRIPTION:・サロン一般開放\n・今月（来月）のスケジュール確認\n・インターネット子ども教室について\n・スタッフの再契約と雇用要件について\n\n今年も、今夜から洞戸ネットサロンが稼動します。\n本年も大勢の皆さんのご利用をよろしくお願いいたします。
SUMMARY:サロン会（兼開室）
PRIORITY:0
CLASS:PUBLIC
END:VEVENT
END:VCALENDAR
