BEGIN:VCALENDAR
CALSCALE:GREGORIAN
X-WR-TIMEZONE;VALUE=TEXT:GMT
PRODID:PEAK Corporation - piCal -
X-WR-CALNAME;VALUE=TEXT:まちづくり委員会広報部打ち合わせ
VERSION:2.0
METHOD:PUBLISH
BEGIN:VTIMEZONE
TZID:GMT
BEGIN:STANDARD
DTSTART:19390101T000000
TZOFFSETFROM:+0000
TZOFFSETTO:+0000
TZNAME:GMT
END:STANDARD
END:VTIMEZONE
BEGIN:VEVENT
DTSTART:20090820T103000Z
DTEND:20090820T120000Z
LOCATION:洞戸生涯学習センター
TRANSP:OPAQUE
SEQUENCE:0
UID:pical060-d6c60a7b338c8ca9d74d306ee69bb0c5
DTSTAMP:20090723T084723Z
CATEGORIES:
DESCRIPTION:「広報ほらど」の掲載記事打ち合わせ\n　　・洞戸村ふるさと塾　広報委員\n　　・まちづくり委員会　広報委員\n
SUMMARY:まちづくり委員会広報部打ち合わせ
PRIORITY:0
CLASS:PUBLIC
END:VEVENT
END:VCALENDAR
