BEGIN:VCALENDAR
CALSCALE:GREGORIAN
X-WR-TIMEZONE;VALUE=TEXT:GMT
PRODID:PEAK Corporation - piCal -
X-WR-CALNAME;VALUE=TEXT:2009　夏祭り
VERSION:2.0
METHOD:PUBLISH
BEGIN:VTIMEZONE
TZID:GMT
BEGIN:STANDARD
DTSTART:19390101T000000
TZOFFSETFROM:+0000
TZOFFSETTO:+0000
TZNAME:GMT
END:STANDARD
END:VTIMEZONE
BEGIN:VEVENT
DTSTART:20090815T013000Z
DTEND:20090815T130000Z
LOCATION:洞戸生涯学習センター　南駐車場
TRANSP:OPAQUE
SEQUENCE:0
UID:pical060-9e9d9cf6f401d9c21af2de78035a7774
DTSTAMP:20090723T085047Z
CATEGORIES:
DESCRIPTION:花火はないけれど、盆踊りやります!!\nただいま詳細を考慮中。\n詳しくは「８月１日広報せき」に折り込みチラシをご覧下さい。
SUMMARY:2009　夏祭り
PRIORITY:0
CLASS:PUBLIC
END:VEVENT
END:VCALENDAR
