BEGIN:VCALENDAR
CALSCALE:GREGORIAN
X-WR-TIMEZONE;VALUE=TEXT:GMT
PRODID:PEAK Corporation - piCal -
X-WR-CALNAME;VALUE=TEXT:洞戸中学校　体育祭
VERSION:2.0
METHOD:PUBLISH
BEGIN:VTIMEZONE
TZID:GMT
BEGIN:STANDARD
DTSTART:19390101T000000
TZOFFSETFROM:+0000
TZOFFSETTO:+0000
TZNAME:GMT
END:STANDARD
END:VTIMEZONE
BEGIN:VEVENT
DTSTART:20090911T230000Z
DTEND:20090912T060000Z
LOCATION:洞戸中学校　校庭
TRANSP:OPAQUE
SEQUENCE:0
UID:pical060-47975f13a59c8b8fa49a70bb951807e2
DTSTAMP:20090723T085240Z
CATEGORIES:
DESCRIPTION:洞戸中学校体育祭
SUMMARY:洞戸中学校　体育祭
PRIORITY:0
CLASS:PUBLIC
END:VEVENT
END:VCALENDAR
