BEGIN:VCALENDAR
CALSCALE:GREGORIAN
X-WR-TIMEZONE;VALUE=TEXT:GMT
PRODID:PEAK Corporation - piCal -
X-WR-CALNAME;VALUE=TEXT:環境整備作業（洞戸小学校・中学校）
VERSION:2.0
METHOD:PUBLISH
BEGIN:VTIMEZONE
TZID:GMT
BEGIN:STANDARD
DTSTART:19390101T000000
TZOFFSETFROM:+0000
TZOFFSETTO:+0000
TZNAME:GMT
END:STANDARD
END:VTIMEZONE
BEGIN:VEVENT
DTSTART:20090822T230000Z
DTEND:20090823T023000Z
LOCATION:洞戸小学校・中学校内
TRANSP:OPAQUE
SEQUENCE:2
UID:pical060-f7cedc9c40b26fdec39c24f33d3d2cb1
DTSTAMP:20090723T191549Z
CATEGORIES:
DESCRIPTION:環境整備作業
SUMMARY:環境整備作業（洞戸小学校・中学校）
PRIORITY:0
CLASS:PUBLIC
END:VEVENT
END:VCALENDAR
