BEGIN:VCALENDAR
CALSCALE:GREGORIAN
X-WR-TIMEZONE;VALUE=TEXT:GMT
PRODID:PEAK Corporation - piCal -
X-WR-CALNAME;VALUE=TEXT:KSC水上運動会
VERSION:2.0
METHOD:PUBLISH
BEGIN:VTIMEZONE
TZID:GMT
BEGIN:STANDARD
DTSTART:19390101T000000
TZOFFSETFROM:+0000
TZOFFSETTO:+0000
TZNAME:GMT
END:STANDARD
END:VTIMEZONE
BEGIN:VEVENT
DTSTART:20090823T013000Z
DTEND:20090823T120000Z
LOCATION:洞戸小学校
TRANSP:OPAQUE
SEQUENCE:0
UID:pical060-c4bd7b2f3c058e653d182ed96ec709f5
DTSTAMP:20090723T085655Z
CATEGORIES:
DESCRIPTION:スイミングサークル恒例の“水上運動会”今年はどんな競技で、誰がプールに落とされるかな？
SUMMARY:KSC水上運動会
PRIORITY:0
CLASS:PUBLIC
END:VEVENT
END:VCALENDAR
