BEGIN:VCALENDAR
CALSCALE:GREGORIAN
X-WR-TIMEZONE;VALUE=TEXT:GMT
PRODID:PEAK Corporation - piCal -
X-WR-CALNAME;VALUE=TEXT:洞戸小学校　運動会
VERSION:2.0
METHOD:PUBLISH
BEGIN:VTIMEZONE
TZID:GMT
BEGIN:STANDARD
DTSTART:19390101T000000
TZOFFSETFROM:+0000
TZOFFSETTO:+0000
TZNAME:GMT
END:STANDARD
END:VTIMEZONE
BEGIN:VEVENT
DTSTART:20090919T000000Z
DTEND:20090919T060000Z
LOCATION:洞戸小学校　校庭
TRANSP:OPAQUE
SEQUENCE:0
UID:pical060-daa4d359607afc3bba310feb44721363
DTSTAMP:20090723T185125Z
CATEGORIES:
DESCRIPTION:洞戸小学校運動会
SUMMARY:洞戸小学校　運動会
PRIORITY:0
CLASS:PUBLIC
END:VEVENT
END:VCALENDAR
