BEGIN:VCALENDAR
CALSCALE:GREGORIAN
X-WR-TIMEZONE;VALUE=TEXT:GMT
PRODID:PEAK Corporation - piCal -
X-WR-CALNAME;VALUE=TEXT:広報ほらど　原稿〆切日
VERSION:2.0
METHOD:PUBLISH
BEGIN:VTIMEZONE
TZID:GMT
BEGIN:STANDARD
DTSTART:19390101T000000
TZOFFSETFROM:+0000
TZOFFSETTO:+0000
TZNAME:GMT
END:STANDARD
END:VTIMEZONE
BEGIN:VEVENT
DTSTART;VALUE=DATE:20090911
DTEND;VALUE=DATE:20090912
LOCATION:
TRANSP:OPAQUE
SEQUENCE:0
UID:pical060-5c4ac00c1d278bf55669979e0acfcefa
DTSTAMP:20090723T185259Z
CATEGORIES:
DESCRIPTION:10月号の記事をこの日までに提出して下さい！
SUMMARY:広報ほらど　原稿〆切日
PRIORITY:0
CLASS:PUBLIC
END:VEVENT
END:VCALENDAR
