BEGIN:VCALENDAR
CALSCALE:GREGORIAN
X-WR-TIMEZONE;VALUE=TEXT:GMT
PRODID:PEAK Corporation - piCal -
X-WR-CALNAME;VALUE=TEXT:敬老会
VERSION:2.0
METHOD:PUBLISH
BEGIN:VTIMEZONE
TZID:GMT
BEGIN:STANDARD
DTSTART:19390101T000000
TZOFFSETFROM:+0000
TZOFFSETTO:+0000
TZNAME:GMT
END:STANDARD
END:VTIMEZONE
BEGIN:VEVENT
DTSTART;VALUE=DATE:20090923
DTEND;VALUE=DATE:20090924
LOCATION:洞戸福祉センター
TRANSP:OPAQUE
SEQUENCE:0
UID:pical060-5c457a155c29486f452c9e07e1b308d6
DTSTAMP:20090723T185443Z
CATEGORIES:
DESCRIPTION:敬老会
SUMMARY:敬老会
PRIORITY:0
CLASS:PUBLIC
END:VEVENT
END:VCALENDAR
