BEGIN:VCALENDAR
CALSCALE:GREGORIAN
X-WR-TIMEZONE;VALUE=TEXT:GMT
PRODID:PEAK Corporation - piCal -
X-WR-CALNAME;VALUE=TEXT:キウイマラソン大会受付開始！
VERSION:2.0
METHOD:PUBLISH
BEGIN:VTIMEZONE
TZID:GMT
BEGIN:STANDARD
DTSTART:19390101T000000
TZOFFSETFROM:+0000
TZOFFSETTO:+0000
TZNAME:GMT
END:STANDARD
END:VTIMEZONE
BEGIN:VEVENT
DTSTART;VALUE=DATE:20090810
DTEND;VALUE=DATE:20090811
LOCATION:
TRANSP:OPAQUE
SEQUENCE:0
UID:pical060-092effa558f2d2b087e26a5452f2d0f0
DTSTAMP:20090723T191427Z
CATEGORIES:
DESCRIPTION:2009ほらどキウイマラソン大会の参加申込受付開始日。\n申込締切は10月20日(火)　\nレイトエントリーは11月4日(水)までインターネットのみの受付\n詳細は大会事務局まで
SUMMARY:キウイマラソン大会受付開始！
PRIORITY:0
CLASS:PUBLIC
END:VEVENT
END:VCALENDAR
