BEGIN:VCALENDAR
CALSCALE:GREGORIAN
X-WR-TIMEZONE;VALUE=TEXT:GMT
PRODID:PEAK Corporation - piCal -
X-WR-CALNAME;VALUE=TEXT:放課後ふれあいクラブ
VERSION:2.0
METHOD:PUBLISH
BEGIN:VTIMEZONE
TZID:GMT
BEGIN:STANDARD
DTSTART:19390101T000000
TZOFFSETFROM:+0000
TZOFFSETTO:+0000
TZNAME:GMT
END:STANDARD
END:VTIMEZONE
BEGIN:VEVENT
DTSTART:20090829T010000Z
DTEND:20090829T030000Z
LOCATION:洞戸生涯学習センター　調理室
TRANSP:OPAQUE
SEQUENCE:0
UID:pical060-a6736ad7b4e085d7a77e24f73efcb65e
DTSTAMP:20090726T044730Z
CATEGORIES:
DESCRIPTION:お菓子作り
SUMMARY:放課後ふれあいクラブ
PRIORITY:0
CLASS:PUBLIC
END:VEVENT
END:VCALENDAR
