BEGIN:VCALENDAR
CALSCALE:GREGORIAN
X-WR-TIMEZONE;VALUE=TEXT:GMT
PRODID:PEAK Corporation - piCal -
X-WR-CALNAME;VALUE=TEXT:放課後ふれあいクラブ
VERSION:2.0
METHOD:PUBLISH
BEGIN:VTIMEZONE
TZID:GMT
BEGIN:STANDARD
DTSTART:19390101T000000
TZOFFSETFROM:+0000
TZOFFSETTO:+0000
TZNAME:GMT
END:STANDARD
END:VTIMEZONE
BEGIN:VEVENT
DTSTART:20090819T010000Z
DTEND:20090819T030000Z
LOCATION:洞戸生涯学習センター　和室
TRANSP:OPAQUE
SEQUENCE:0
UID:pical060-2c98c91c79ace8f8e6a93589429e2abc
DTSTAMP:20090726T044908Z
CATEGORIES:
DESCRIPTION:カード遊び
SUMMARY:放課後ふれあいクラブ
PRIORITY:0
CLASS:PUBLIC
END:VEVENT
END:VCALENDAR
