BEGIN:VCALENDAR
CALSCALE:GREGORIAN
X-WR-TIMEZONE;VALUE=TEXT:GMT
PRODID:PEAK Corporation - piCal -
X-WR-CALNAME;VALUE=TEXT:職員会
VERSION:2.0
METHOD:PUBLISH
BEGIN:VTIMEZONE
TZID:GMT
BEGIN:STANDARD
DTSTART:19390101T000000
TZOFFSETFROM:+0000
TZOFFSETTO:+0000
TZNAME:GMT
END:STANDARD
END:VTIMEZONE
BEGIN:VEVENT
DTSTART:20090826T003000Z
DTEND:20090826T123000Z
LOCATION:学習センター　
TRANSP:OPAQUE
SEQUENCE:0
UID:pical060-01e18a5dcc04b415985cfeaab603333d
DTSTAMP:20090802T003019Z
CATEGORIES:
DESCRIPTION:
SUMMARY:職員会
PRIORITY:0
CLASS:PUBLIC
END:VEVENT
END:VCALENDAR
