BEGIN:VCALENDAR
CALSCALE:GREGORIAN
X-WR-TIMEZONE;VALUE=TEXT:GMT
PRODID:PEAK Corporation - piCal -
X-WR-CALNAME;VALUE=TEXT:夏祭り実行委員会会議
VERSION:2.0
METHOD:PUBLISH
BEGIN:VTIMEZONE
TZID:GMT
BEGIN:STANDARD
DTSTART:19390101T000000
TZOFFSETFROM:+0000
TZOFFSETTO:+0000
TZNAME:GMT
END:STANDARD
END:VTIMEZONE
BEGIN:VEVENT
DTSTART:20090810T100000Z
DTEND:20090810T120000Z
LOCATION:洞戸生涯学習センター
TRANSP:OPAQUE
SEQUENCE:0
UID:pical060-47bed786d8a4792a3aa11dace7097f0a
DTSTAMP:20090807T010220Z
CATEGORIES:
DESCRIPTION:夏祭りに向けての最終打ち合わせ
SUMMARY:夏祭り実行委員会会議
PRIORITY:0
CLASS:PUBLIC
END:VEVENT
END:VCALENDAR
