BEGIN:VCALENDAR
CALSCALE:GREGORIAN
X-WR-TIMEZONE;VALUE=TEXT:GMT
PRODID:PEAK Corporation - piCal -
X-WR-CALNAME;VALUE=TEXT:地域バス協議会
VERSION:2.0
METHOD:PUBLISH
BEGIN:VTIMEZONE
TZID:GMT
BEGIN:STANDARD
DTSTART:19390101T000000
TZOFFSETFROM:+0000
TZOFFSETTO:+0000
TZNAME:GMT
END:STANDARD
END:VTIMEZONE
BEGIN:VEVENT
DTSTART:20090811T103000Z
DTEND:20090811T123000Z
LOCATION:洞戸生涯学習センター
TRANSP:OPAQUE
SEQUENCE:0
UID:pical060-376a5ede6ec5c0ae5d6b478be981f76c
DTSTAMP:20090807T010420Z
CATEGORIES:
DESCRIPTION:洞戸地域バス協議会
SUMMARY:地域バス協議会
PRIORITY:0
CLASS:PUBLIC
END:VEVENT
END:VCALENDAR
