BEGIN:VCALENDAR
CALSCALE:GREGORIAN
X-WR-TIMEZONE;VALUE=TEXT:GMT
PRODID:PEAK Corporation - piCal -
X-WR-CALNAME;VALUE=TEXT:キウイマラソン企画政策委員会　
VERSION:2.0
METHOD:PUBLISH
BEGIN:VTIMEZONE
TZID:GMT
BEGIN:STANDARD
DTSTART:19390101T000000
TZOFFSETFROM:+0000
TZOFFSETTO:+0000
TZNAME:GMT
END:STANDARD
END:VTIMEZONE
BEGIN:VEVENT
DTSTART:20090901T103000Z
DTEND:20090901T120000Z
LOCATION:洞戸事務所　第1会議室
TRANSP:OPAQUE
SEQUENCE:0
UID:pical060-e96f4a263191642409389b6da4113ea5
DTSTAMP:20090807T010615Z
CATEGORIES:
DESCRIPTION:各専門委員会進捗状況の報告　等
SUMMARY:キウイマラソン企画政策委員会　
PRIORITY:0
CLASS:PUBLIC
END:VEVENT
END:VCALENDAR
