BEGIN:VCALENDAR
CALSCALE:GREGORIAN
X-WR-TIMEZONE;VALUE=TEXT:GMT
PRODID:PEAK Corporation - piCal -
X-WR-CALNAME;VALUE=TEXT:中央青空市場
VERSION:2.0
METHOD:PUBLISH
BEGIN:VTIMEZONE
TZID:GMT
BEGIN:STANDARD
DTSTART:19390101T000000
TZOFFSETFROM:+0000
TZOFFSETTO:+0000
TZNAME:GMT
END:STANDARD
END:VTIMEZONE
BEGIN:VEVENT
DTSTART:20090812T220000Z
DTEND:20090813T040000Z
LOCATION:洞戸事務所 敷地内
TRANSP:OPAQUE
SEQUENCE:0
UID:pical060-6524d318fcb464e130465d10d5a7b848
DTSTAMP:20090809T043914Z
CATEGORIES:
DESCRIPTION:お待ちしてます。
SUMMARY:中央青空市場
PRIORITY:0
CLASS:PUBLIC
END:VEVENT
END:VCALENDAR
