BEGIN:VCALENDAR
CALSCALE:GREGORIAN
X-WR-TIMEZONE;VALUE=TEXT:GMT
PRODID:PEAK Corporation - piCal -
X-WR-CALNAME;VALUE=TEXT:中央青空市場
VERSION:2.0
METHOD:PUBLISH
BEGIN:VTIMEZONE
TZID:GMT
BEGIN:STANDARD
DTSTART:19390101T000000
TZOFFSETFROM:+0000
TZOFFSETTO:+0000
TZNAME:GMT
END:STANDARD
END:VTIMEZONE
BEGIN:VEVENT
DTSTART:20090902T220000Z
DTEND:20090903T040000Z
LOCATION:洞戸事務所 敷地内
TRANSP:OPAQUE
SEQUENCE:1
UID:pical060-2e34c9fc723767f1038b39918f78ef36
DTSTAMP:20090830T042842Z
CATEGORIES:
DESCRIPTION:お待ちしております。
SUMMARY:中央青空市場
PRIORITY:0
CLASS:PUBLIC
END:VEVENT
END:VCALENDAR
