BEGIN:VCALENDAR
CALSCALE:GREGORIAN
X-WR-TIMEZONE;VALUE=TEXT:GMT
PRODID:PEAK Corporation - piCal -
X-WR-CALNAME;VALUE=TEXT:仲瀬　薬師まつり
VERSION:2.0
METHOD:PUBLISH
BEGIN:VTIMEZONE
TZID:GMT
BEGIN:STANDARD
DTSTART:19390101T000000
TZOFFSETFROM:+0000
TZOFFSETTO:+0000
TZNAME:GMT
END:STANDARD
END:VTIMEZONE
BEGIN:VEVENT
DTSTART:20090905T103000Z
DTEND:20090905T120000Z
LOCATION:洞戸市場仲瀬地内　仲瀬薬師堂境内
TRANSP:OPAQUE
SEQUENCE:1
UID:pical060-21a3461a8cf216f614edcba8124b8dad
DTSTAMP:20090903T102607Z
CATEGORIES:
DESCRIPTION:関市洞戸市場仲瀬地区のほぼ中央に位置する薬師堂に彩色された立派な木造の薬師如来座像（像高150cm）が祀られています。\n像の背面には、慶安２年（1649）　宗祐作の銘があります。\n明治時代には中興の祖といわれる義仙と称す尼さんが、薬師堂のそばに庵を建て堂守りをしていました。\n毎年９月の上旬には薬師様の供養として祭りが行われます。\nかき氷、金魚すくい、ちょうちんまつりもあります。ぜひお越しください。
SUMMARY:仲瀬　薬師まつり
PRIORITY:0
CLASS:PUBLIC
END:VEVENT
END:VCALENDAR
