BEGIN:VCALENDAR
CALSCALE:GREGORIAN
X-WR-TIMEZONE;VALUE=TEXT:GMT
PRODID:PEAK Corporation - piCal -
X-WR-CALNAME;VALUE=TEXT:(KSC)　ジュニア連絡協議会
VERSION:2.0
METHOD:PUBLISH
BEGIN:VTIMEZONE
TZID:GMT
BEGIN:STANDARD
DTSTART:19390101T000000
TZOFFSETFROM:+0000
TZOFFSETTO:+0000
TZNAME:GMT
END:STANDARD
END:VTIMEZONE
BEGIN:VEVENT
DTSTART:20100302T103000Z
DTEND:20100302T120000Z
LOCATION:関市洞戸運動公園管理棟
TRANSP:OPAQUE
SEQUENCE:1
UID:pical060-44d4b3dbbf695dd3ace8d3afe36c80fe
DTSTAMP:20100307T045223Z
CATEGORIES:キウイスポーツクラブ
DESCRIPTION:キウイスポーツクラブ所属スポーツ少年団と中学サークル両育成会による「ジュニア育成連絡協議会」\n\n協議事項＞　?21年度保護者負担金返金と指導者者金支払について\n　　　　　　?22年度入会申し込みと手続きについて\n　　　　　　?諸書類について\n　　　　　　?施設使用と申請手続きについて\n　　　　　　?その他\n\n※新旧役員両方で出席下さい。\n※指導者出席簿を持参下さい。
SUMMARY:(KSC)　ジュニア連絡協議会
PRIORITY:0
CLASS:PUBLIC
END:VEVENT
END:VCALENDAR
