BEGIN:VCALENDAR
CALSCALE:GREGORIAN
X-WR-TIMEZONE;VALUE=TEXT:GMT
PRODID:PEAK Corporation - piCal -
X-WR-CALNAME;VALUE=TEXT:（KSC)　理事会
VERSION:2.0
METHOD:PUBLISH
BEGIN:VTIMEZONE
TZID:GMT
BEGIN:STANDARD
DTSTART:19390101T000000
TZOFFSETFROM:+0000
TZOFFSETTO:+0000
TZNAME:GMT
END:STANDARD
END:VTIMEZONE
BEGIN:VEVENT
DTSTART:20100307T100000Z
DTEND:20100307T120000Z
LOCATION:関市洞戸運動公園管理棟
TRANSP:OPAQUE
SEQUENCE:1
UID:pical060-25869ce8acdcad3d1afdd037b0ff943a
DTSTAMP:20100305T112141Z
CATEGORIES:キウイスポーツクラブ
DESCRIPTION:キウイスポーツクラブ理事会\n関係者の皆さん来てね！
SUMMARY:（KSC)　理事会
PRIORITY:0
CLASS:PUBLIC
END:VEVENT
END:VCALENDAR
