BEGIN:VCALENDAR
CALSCALE:GREGORIAN
X-WR-TIMEZONE;VALUE=TEXT:GMT
PRODID:PEAK Corporation - piCal -
X-WR-CALNAME;VALUE=TEXT:(KSC) スイミングサークル総会
VERSION:2.0
METHOD:PUBLISH
BEGIN:VTIMEZONE
TZID:GMT
BEGIN:STANDARD
DTSTART:19390101T000000
TZOFFSETFROM:+0000
TZOFFSETTO:+0000
TZNAME:GMT
END:STANDARD
END:VTIMEZONE
BEGIN:VEVENT
DTSTART:20100328T103000Z
DTEND:20100328T120000Z
LOCATION:関市洞戸生涯学習センター
TRANSP:OPAQUE
SEQUENCE:1
UID:pical060-f83b144c83e27507491944464cca8d69
DTSTAMP:20100305T112156Z
CATEGORIES:キウイスポーツクラブ
DESCRIPTION:平成22年度総会\n\n新規会員・継続会員の皆さんお集まりください。
SUMMARY:(KSC) スイミングサークル総会
PRIORITY:0
CLASS:PUBLIC
END:VEVENT
END:VCALENDAR
