BEGIN:VCALENDAR
CALSCALE:GREGORIAN
X-WR-TIMEZONE;VALUE=TEXT:GMT
PRODID:PEAK Corporation - piCal -
X-WR-CALNAME;VALUE=TEXT:小中学校　修了式
VERSION:2.0
METHOD:PUBLISH
BEGIN:VTIMEZONE
TZID:GMT
BEGIN:STANDARD
DTSTART:19390101T000000
TZOFFSETFROM:+0000
TZOFFSETTO:+0000
TZNAME:GMT
END:STANDARD
END:VTIMEZONE
BEGIN:VEVENT
DTSTART;VALUE=DATE:20100326
DTEND;VALUE=DATE:20100327
LOCATION:
TRANSP:OPAQUE
SEQUENCE:0
UID:pical060-9415908cebfe7374fcd0f51733d991aa
DTSTAMP:20100303T163014Z
CATEGORIES:
DESCRIPTION:
SUMMARY:小中学校　修了式
PRIORITY:0
CLASS:PUBLIC
END:VEVENT
END:VCALENDAR
