BEGIN:VCALENDAR
CALSCALE:GREGORIAN
X-WR-TIMEZONE;VALUE=TEXT:GMT
PRODID:PEAK Corporation - piCal -
X-WR-CALNAME;VALUE=TEXT:指導者委嘱状交付式＆指導者研修会
VERSION:2.0
METHOD:PUBLISH
BEGIN:VTIMEZONE
TZID:GMT
BEGIN:STANDARD
DTSTART:19390101T000000
TZOFFSETFROM:+0000
TZOFFSETTO:+0000
TZNAME:GMT
END:STANDARD
END:VTIMEZONE
BEGIN:VEVENT
DTSTART;VALUE=DATE:20100430
DTEND;VALUE=DATE:20100501
LOCATION:未定
TRANSP:OPAQUE
SEQUENCE:0
UID:pical060-0abb7881cf6e14fb6732697601d4899d
DTSTAMP:20100305T112413Z
CATEGORIES:キウイスポーツクラブ
DESCRIPTION:詳細は後日掲載いたします
SUMMARY:指導者委嘱状交付式＆指導者研修会
PRIORITY:0
CLASS:PUBLIC
END:VEVENT
END:VCALENDAR
