BEGIN:VCALENDAR
CALSCALE:GREGORIAN
X-WR-TIMEZONE;VALUE=TEXT:GMT
PRODID:PEAK Corporation - piCal -
X-WR-CALNAME;VALUE=TEXT:スポ少サークル会員募集の一次締め切り
VERSION:2.0
METHOD:PUBLISH
BEGIN:VTIMEZONE
TZID:GMT
BEGIN:STANDARD
DTSTART:19390101T000000
TZOFFSETFROM:+0000
TZOFFSETTO:+0000
TZNAME:GMT
END:STANDARD
END:VTIMEZONE
BEGIN:VEVENT
DTSTART;VALUE=DATE:20100315
DTEND;VALUE=DATE:20100316
LOCATION:
TRANSP:OPAQUE
SEQUENCE:0
UID:pical060-de962ef647de1aaa6cd20e6556f894ed
DTSTAMP:20100306T131902Z
CATEGORIES:キウイスポーツクラブ
DESCRIPTION:洞戸小学校児童に配布した“スポ少サークル会員募集”の一次締め切り。\n継続の方も、新規の方も、小学校の教頭先生に申込書を提出して下さい。\n※締め切り後も随時キウイスポーツクラブにて申し込みは受け付けします。
SUMMARY:スポ少サークル会員募集の一次締め切り
PRIORITY:0
CLASS:PUBLIC
END:VEVENT
END:VCALENDAR
