BEGIN:VCALENDAR
CALSCALE:GREGORIAN
X-WR-TIMEZONE;VALUE=TEXT:GMT
PRODID:PEAK Corporation - piCal -
X-WR-CALNAME;VALUE=TEXT:NPO法人洞戸村ふるさと塾　総会
VERSION:2.0
METHOD:PUBLISH
BEGIN:VTIMEZONE
TZID:GMT
BEGIN:STANDARD
DTSTART:19390101T000000
TZOFFSETFROM:+0000
TZOFFSETTO:+0000
TZNAME:GMT
END:STANDARD
END:VTIMEZONE
BEGIN:VEVENT
DTSTART:20100423T090000Z
DTEND:20100423T100000Z
LOCATION:洞戸生涯学習センター
TRANSP:OPAQUE
SEQUENCE:2
UID:pical060-cfa21c2edc92121e6337e58d3b853503
DTSTAMP:20100429T050953Z
CATEGORIES:洞戸村ふるさと塾
DESCRIPTION:総会の資料は書きページ下段\<a href="nhttp://www.horado.com/modules/tinyd0/content0001.html" target="_blank">nhttp://www.horado.com/modules/tinyd0/content0001.html</a>
SUMMARY:NPO法人洞戸村ふるさと塾　総会
PRIORITY:0
CLASS:PUBLIC
END:VEVENT
END:VCALENDAR
