BEGIN:VCALENDAR
CALSCALE:GREGORIAN
X-WR-TIMEZONE;VALUE=TEXT:GMT
PRODID:PEAK Corporation - piCal -
X-WR-CALNAME;VALUE=TEXT:NPO法人キウイスポーツクラブ　総会
VERSION:2.0
METHOD:PUBLISH
BEGIN:VTIMEZONE
TZID:GMT
BEGIN:STANDARD
DTSTART:19390101T000000
TZOFFSETFROM:+0000
TZOFFSETTO:+0000
TZNAME:GMT
END:STANDARD
END:VTIMEZONE
BEGIN:VEVENT
DTSTART:20100508T090000Z
DTEND:20100508T100000Z
LOCATION:洞戸運動公園管理棟
TRANSP:OPAQUE
SEQUENCE:0
UID:pical060-3fe81beb9d06e4a7819df9133b95a37d
DTSTAMP:20100311T163503Z
CATEGORIES:キウイスポーツクラブ
DESCRIPTION:
SUMMARY:NPO法人キウイスポーツクラブ　総会
PRIORITY:0
CLASS:PUBLIC
END:VEVENT
END:VCALENDAR
