BEGIN:VCALENDAR
CALSCALE:GREGORIAN
X-WR-TIMEZONE;VALUE=TEXT:GMT
PRODID:PEAK Corporation - piCal -
X-WR-CALNAME;VALUE=TEXT:ジュニア陸上記録会
VERSION:2.0
METHOD:PUBLISH
BEGIN:VTIMEZONE
TZID:GMT
BEGIN:STANDARD
DTSTART:19390101T000000
TZOFFSETFROM:+0000
TZOFFSETTO:+0000
TZNAME:GMT
END:STANDARD
END:VTIMEZONE
BEGIN:VEVENT
DTSTART:20100529T000000Z
DTEND:20100529T030000Z
LOCATION:関市洞戸運動公園　グラウンド
TRANSP:OPAQUE
SEQUENCE:3
UID:pical060-84470d396defa6a04e571275411e49af
DTSTAMP:20100529T091713Z
CATEGORIES:学校関連（小中）,キウイスポーツクラブ,関市洞戸運動公園
DESCRIPTION:参加募集中！\n<a href="http://blogs.yahoo.co.jp/kiwibouya2007/60513898.html" target="_blank">キウイスポーツクラブ　活動中！</a>
SUMMARY:ジュニア陸上記録会
PRIORITY:0
CLASS:PUBLIC
END:VEVENT
END:VCALENDAR
