BEGIN:VCALENDAR
CALSCALE:GREGORIAN
X-WR-TIMEZONE;VALUE=TEXT:GMT
PRODID:PEAK Corporation - piCal -
X-WR-CALNAME;VALUE=TEXT:中体連陸上大会
VERSION:2.0
METHOD:PUBLISH
BEGIN:VTIMEZONE
TZID:GMT
BEGIN:STANDARD
DTSTART:19390101T000000
TZOFFSETFROM:+0000
TZOFFSETTO:+0000
TZNAME:GMT
END:STANDARD
END:VTIMEZONE
BEGIN:VEVENT
DTSTART;VALUE=DATE:20100619
DTEND;VALUE=DATE:20100620
LOCATION:関市洞戸運動公園
TRANSP:OPAQUE
SEQUENCE:0
UID:pical060-901d3a4c3687072b5c46ece4fbdca9cf
DTSTAMP:20100311T164035Z
CATEGORIES:学校関連（小中）,キウイスポーツクラブ,関市洞戸運動公園
DESCRIPTION:
SUMMARY:中体連陸上大会
PRIORITY:0
CLASS:PUBLIC
END:VEVENT
END:VCALENDAR
