BEGIN:VCALENDAR
CALSCALE:GREGORIAN
X-WR-TIMEZONE;VALUE=TEXT:GMT
PRODID:PEAK Corporation - piCal -
X-WR-CALNAME;VALUE=TEXT:洞小・洞中　入学式＆始業式
VERSION:2.0
METHOD:PUBLISH
BEGIN:VTIMEZONE
TZID:GMT
BEGIN:STANDARD
DTSTART:19390101T000000
TZOFFSETFROM:+0000
TZOFFSETTO:+0000
TZNAME:GMT
END:STANDARD
END:VTIMEZONE
BEGIN:VEVENT
DTSTART;VALUE=DATE:20100406
DTEND;VALUE=DATE:20100407
LOCATION:洞戸小学校・洞戸中学校
TRANSP:OPAQUE
SEQUENCE:0
UID:pical060-20ec5df25dbb921a7f4045a7c7e76c33
DTSTAMP:20100325T145708Z
CATEGORIES:学校関連（小中）
DESCRIPTION:
SUMMARY:洞小・洞中　入学式＆始業式
PRIORITY:0
CLASS:PUBLIC
END:VEVENT
END:VCALENDAR
