BEGIN:VCALENDAR
CALSCALE:GREGORIAN
X-WR-TIMEZONE;VALUE=TEXT:GMT
PRODID:PEAK Corporation - piCal -
X-WR-CALNAME;VALUE=TEXT:自治連洞戸支部　総会
VERSION:2.0
METHOD:PUBLISH
BEGIN:VTIMEZONE
TZID:GMT
BEGIN:STANDARD
DTSTART:19390101T000000
TZOFFSETFROM:+0000
TZOFFSETTO:+0000
TZNAME:GMT
END:STANDARD
END:VTIMEZONE
BEGIN:VEVENT
DTSTART:20100414T100000Z
DTEND:20100414T120000Z
LOCATION:洞戸基幹集落センター　第3会議室
TRANSP:OPAQUE
SEQUENCE:0
UID:pical060-c9c55296c35af80fdcf9e6c15c4dc26c
DTSTAMP:20100327T151153Z
CATEGORIES:
DESCRIPTION:
SUMMARY:自治連洞戸支部　総会
PRIORITY:0
CLASS:PUBLIC
END:VEVENT
END:VCALENDAR
