BEGIN:VCALENDAR
CALSCALE:GREGORIAN
X-WR-TIMEZONE;VALUE=TEXT:GMT
PRODID:PEAK Corporation - piCal -
X-WR-CALNAME;VALUE=TEXT:交通安全洞戸支部総会
VERSION:2.0
METHOD:PUBLISH
BEGIN:VTIMEZONE
TZID:GMT
BEGIN:STANDARD
DTSTART:19390101T000000
TZOFFSETFROM:+0000
TZOFFSETTO:+0000
TZNAME:GMT
END:STANDARD
END:VTIMEZONE
BEGIN:VEVENT
DTSTART:20100408T103000Z
DTEND:20100408T120000Z
LOCATION:洞戸生涯学習センター
TRANSP:OPAQUE
SEQUENCE:0
UID:pical060-27a9c67a2d2dc1e3a091af1a9fea9a15
DTSTAMP:20100402T034740Z
CATEGORIES:
DESCRIPTION:
SUMMARY:交通安全洞戸支部総会
PRIORITY:0
CLASS:PUBLIC
END:VEVENT
END:VCALENDAR
