BEGIN:VCALENDAR
CALSCALE:GREGORIAN
X-WR-TIMEZONE;VALUE=TEXT:GMT
PRODID:PEAK Corporation - piCal -
X-WR-CALNAME;VALUE=TEXT:KSC）中学育成会会合
VERSION:2.0
METHOD:PUBLISH
BEGIN:VTIMEZONE
TZID:GMT
BEGIN:STANDARD
DTSTART:19390101T000000
TZOFFSETFROM:+0000
TZOFFSETTO:+0000
TZNAME:GMT
END:STANDARD
END:VTIMEZONE
BEGIN:VEVENT
DTSTART:20100407T103000Z
DTEND:20100407T113000Z
LOCATION:洞戸運動公園管理棟
TRANSP:OPAQUE
SEQUENCE:1
UID:pical060-9252f64e580886641fd3d858513c2a59
DTSTAMP:20100406T151958Z
CATEGORIES:キウイスポーツクラブ
DESCRIPTION:
SUMMARY:KSC）中学育成会会合
PRIORITY:0
CLASS:PUBLIC
END:VEVENT
END:VCALENDAR
