BEGIN:VCALENDAR
CALSCALE:GREGORIAN
X-WR-TIMEZONE;VALUE=TEXT:GMT
PRODID:PEAK Corporation - piCal -
X-WR-CALNAME;VALUE=TEXT:生産者説明会（seeds project）
VERSION:2.0
METHOD:PUBLISH
BEGIN:VTIMEZONE
TZID:GMT
BEGIN:STANDARD
DTSTART:19390101T000000
TZOFFSETFROM:+0000
TZOFFSETTO:+0000
TZNAME:GMT
END:STANDARD
END:VTIMEZONE
BEGIN:VEVENT
DTSTART:20100413T090000Z
DTEND:20100413T103000Z
LOCATION:生涯学習センター（和室）
TRANSP:OPAQUE
SEQUENCE:1
UID:pical060-f0fc7c457f49ce509acd709ee2d7e6e5
DTSTAMP:20100609T231734Z
CATEGORIES:洞戸村ふるさと塾
DESCRIPTION:洞戸農産物ブランド化計画　事前説明会\n・事業の説明\n・種の販売および注文\n・質疑応答\n主催： NPO法人洞戸村ふるさと塾
SUMMARY:生産者説明会（seeds project）
PRIORITY:0
CLASS:PUBLIC
END:VEVENT
END:VCALENDAR
