BEGIN:VCALENDAR
CALSCALE:GREGORIAN
X-WR-TIMEZONE;VALUE=TEXT:GMT
PRODID:PEAK Corporation - piCal -
X-WR-CALNAME;VALUE=TEXT:ほらどまちづくり委員会総会
VERSION:2.0
METHOD:PUBLISH
BEGIN:VTIMEZONE
TZID:GMT
BEGIN:STANDARD
DTSTART:19390101T000000
TZOFFSETFROM:+0000
TZOFFSETTO:+0000
TZNAME:GMT
END:STANDARD
END:VTIMEZONE
BEGIN:VEVENT
DTSTART:20100428T103000Z
DTEND:20100428T123000Z
LOCATION:洞戸基幹集落センター
TRANSP:OPAQUE
SEQUENCE:2
UID:pical060-e84834a448dac80c8cb95fca087211e2
DTSTAMP:20100429T051525Z
CATEGORIES:ほらどまちづくり委員会
DESCRIPTION:総会資料は下記ページ下段に掲載\<a href="nhttp://www.horado.com/modules/tinyd3/index.php?content_id=2" target="_blank">nhttp://www.horado.com/modules/tinyd3/index.php?content_id=2</a>
SUMMARY:ほらどまちづくり委員会総会
PRIORITY:0
CLASS:PUBLIC
END:VEVENT
END:VCALENDAR
