BEGIN:VCALENDAR
CALSCALE:GREGORIAN
X-WR-TIMEZONE;VALUE=TEXT:GMT
PRODID:PEAK Corporation - piCal -
X-WR-CALNAME;VALUE=TEXT:自然発生椎茸　収穫
VERSION:2.0
METHOD:PUBLISH
BEGIN:VTIMEZONE
TZID:GMT
BEGIN:STANDARD
DTSTART:19390101T000000
TZOFFSETFROM:+0000
TZOFFSETTO:+0000
TZNAME:GMT
END:STANDARD
END:VTIMEZONE
BEGIN:VEVENT
DTSTART:20100421T043000Z
DTEND:20100421T052000Z
LOCATION:ほだ場
TRANSP:OPAQUE
SEQUENCE:0
UID:pical060-30d3def308078190cedc06e5e01655a8
DTSTAMP:20100427T034725Z
CATEGORIES:洞戸村ふるさと塾
DESCRIPTION:塾の椎茸、３月１０日に続いての今年度２度目の自然発生。椎茸指導者の船渡さんからご連絡をいただき、ご夫婦と一緒に収穫しました。収穫カゴに４杯ほど。\n雨がやたら多いのと１０日に原木をいじった刺激が加わっての発生だと思われます。\n\nすでにかなり大きく傘が開いてしまっています。先週の内に観ておけばよかった。商品価値はかなり低い。。\nでも、今度は猿にやられなかっただけでも儲けものです。\n\n---------------------------\n案の定次の日の２２日、猿の群れが出没。　今回はしてやったり。我々の勝ちです v(^^)\n収穫した椎茸は近所のお得意さんにグラム売り。良いものは１６パックできましたので、道の駅に持っていったら、雨天でお客さんの入りも少ない木曜にしては完売でした。皆さん待っておられた様です。\n\n大変美味しいと知名度うなぎのぼりのふるさと塾産原木椎茸です。\n\n\n\n
SUMMARY:自然発生椎茸　収穫
PRIORITY:0
CLASS:PUBLIC
END:VEVENT
END:VCALENDAR
