BEGIN:VCALENDAR
CALSCALE:GREGORIAN
X-WR-TIMEZONE;VALUE=TEXT:GMT
PRODID:PEAK Corporation - piCal -
X-WR-CALNAME;VALUE=TEXT:Seed pj (土磨農園代表との会談)
VERSION:2.0
METHOD:PUBLISH
BEGIN:VTIMEZONE
TZID:GMT
BEGIN:STANDARD
DTSTART:19390101T000000
TZOFFSETFROM:+0000
TZOFFSETTO:+0000
TZNAME:GMT
END:STANDARD
END:VTIMEZONE
BEGIN:VEVENT
DTSTART:20100415T080000Z
DTEND:20100415T091500Z
LOCATION:鑑真康寿堂
TRANSP:OPAQUE
SEQUENCE:1
UID:pical060-cb6a45ba9b2acffa5a406eb839759977
DTSTAMP:20100427T081939Z
CATEGORIES:洞戸村ふるさと塾
DESCRIPTION:洞戸農産物ブランド化事業（Seeds Project）の打合せ\n土磨農園代表・生産者代表２名・担当理事・理事長
SUMMARY:Seed pj (土磨農園代表との会談)
PRIORITY:0
CLASS:PUBLIC
END:VEVENT
END:VCALENDAR
