BEGIN:VCALENDAR
CALSCALE:GREGORIAN
X-WR-TIMEZONE;VALUE=TEXT:GMT
PRODID:PEAK Corporation - piCal -
X-WR-CALNAME;VALUE=TEXT:市民活動助成金審査会（Seeds pj）
VERSION:2.0
METHOD:PUBLISH
BEGIN:VTIMEZONE
TZID:GMT
BEGIN:STANDARD
DTSTART:19390101T000000
TZOFFSETFROM:+0000
TZOFFSETTO:+0000
TZNAME:GMT
END:STANDARD
END:VTIMEZONE
BEGIN:VEVENT
DTSTART:20100416T021000Z
DTEND:20100416T033000Z
LOCATION:わかくさ・ぷらざ学習情報館3-2
TRANSP:OPAQUE
SEQUENCE:1
UID:pical060-d1573d9d319010ce3e6e5a625428215b
DTSTAMP:20100429T075815Z
CATEGORIES:洞戸村ふるさと塾
DESCRIPTION:洞戸農産物ブランド化事業(Seeds project)への助成金を得る為のプレゼンに理事長・担当理事が参加\<a href="nhttp://www.horado.com/uploads/photos/580.pdf\n\n---------------------------------\n全１９団体の内８番目の審査。採算面や品目についての質問あり。\n&quot;あなたの職業は&quot;との質問も？？　おそらく、塾という名称と指導を含む事業であることから　謎の指導者と勘違いされたと思われます。" target="_blank">nhttp://www.horado.com/uploads/photos/580.pdf\n\n---------------------------------\n全１９団体の内８番目の審査。採算面や品目についての質問あり。\n&quot;あなたの職業は&quot;との質問も？？　おそらく、塾という名称と指導を含む事業であることから　謎の指導者と勘違いされたと思われます。</a>(気づいたのは帰ってから)　急な質問で的確な返答ができなかったことを反省。。\n\n感触は良かったので大丈夫かと。\n\n
SUMMARY:市民活動助成金審査会（Seeds pj）
PRIORITY:0
CLASS:PUBLIC
END:VEVENT
END:VCALENDAR
