BEGIN:VCALENDAR
CALSCALE:GREGORIAN
X-WR-TIMEZONE;VALUE=TEXT:GMT
PRODID:PEAK Corporation - piCal -
X-WR-CALNAME;VALUE=TEXT:椎茸ハウスのビニール繋ぎ
VERSION:2.0
METHOD:PUBLISH
BEGIN:VTIMEZONE
TZID:GMT
BEGIN:STANDARD
DTSTART:19390101T000000
TZOFFSETFROM:+0000
TZOFFSETTO:+0000
TZNAME:GMT
END:STANDARD
END:VTIMEZONE
BEGIN:VEVENT
DTSTART:20100430T000000Z
DTEND:20100430T010000Z
LOCATION:後藤石油車庫
TRANSP:OPAQUE
SEQUENCE:0
UID:pical060-9de8f135d036d2b2314f71e1d849f07f
DTSTAMP:20100505T073150Z
CATEGORIES:洞戸村ふるさと塾
DESCRIPTION:昨年度購入済みのハウスビニールを貼りあわせる作業を行いました。巨大なハウスは、経費削減のため自分達で繋ぎあわせて使用します。\n\nビニールは、ほぼ三年で硬化してパリパリになり交換が必要となりますが、途中破れ目を補修したり、こうして新しくするための準備も欠かせない作業です。\n
SUMMARY:椎茸ハウスのビニール繋ぎ
PRIORITY:0
CLASS:PUBLIC
END:VEVENT
END:VCALENDAR
